BEGIN:VCALENDAR
VERSION:2.0
PRODID:-//La Seiche Sevrier - ECPv6.15.20//NONSGML v1.0//EN
CALSCALE:GREGORIAN
METHOD:PUBLISH
X-WR-CALNAME:La Seiche Sevrier
X-ORIGINAL-URL:https://lemarchedelaseiche.fr
X-WR-CALDESC:Évènements pour La Seiche Sevrier
REFRESH-INTERVAL;VALUE=DURATION:PT1H
X-Robots-Tag:noindex
X-PUBLISHED-TTL:PT1H
BEGIN:VTIMEZONE
TZID:Europe/Paris
BEGIN:DAYLIGHT
TZOFFSETFROM:+0100
TZOFFSETTO:+0200
TZNAME:CEST
DTSTART:20250330T010000
END:DAYLIGHT
BEGIN:STANDARD
TZOFFSETFROM:+0200
TZOFFSETTO:+0100
TZNAME:CET
DTSTART:20251026T010000
END:STANDARD
BEGIN:DAYLIGHT
TZOFFSETFROM:+0100
TZOFFSETTO:+0200
TZNAME:CEST
DTSTART:20260329T010000
END:DAYLIGHT
BEGIN:STANDARD
TZOFFSETFROM:+0200
TZOFFSETTO:+0100
TZNAME:CET
DTSTART:20261025T010000
END:STANDARD
BEGIN:DAYLIGHT
TZOFFSETFROM:+0100
TZOFFSETTO:+0200
TZNAME:CEST
DTSTART:20270328T010000
END:DAYLIGHT
BEGIN:STANDARD
TZOFFSETFROM:+0200
TZOFFSETTO:+0100
TZNAME:CET
DTSTART:20271031T010000
END:STANDARD
END:VTIMEZONE
BEGIN:VEVENT
DTSTART;TZID=Europe/Paris:20260425T200000
DTEND;TZID=Europe/Paris:20260425T223000
DTSTAMP:20260425T125206
CREATED:20260411T122029Z
LAST-MODIFIED:20260419T175427Z
UID:49442-1777147200-1777156200@lemarchedelaseiche.fr
SUMMARY:Soirée Karaoké du samedi avec Nadou
DESCRIPTION:Soirée Karaoké avec Nadou\nChantez sur vos tubes préférés dans une ambiance dansante et sympathique. \nAvec bar et restauration sur place. 
URL:https://lemarchedelaseiche.fr/event/soiree-karaoke-samedi-avec-nadou-3/
LOCATION:la Seiche Sevrier\, 35 route de Piron\, Sevrier\, Haute-Savoie\, 74320\, France
CATEGORIES:Animations et Spectacles,Karaoké,Quoi faire à Sevrier,Sortir autour du lac d'Annecy
ATTACH;FMTTYPE=image/jpeg:https://lemarchedelaseiche.fr/wp-content/uploads/2024/08/Karaoke-avec-Nadou-a-La-Seiche-Sevrier-pres-dAnnecy.jpg
END:VEVENT
BEGIN:VEVENT
DTSTART;TZID=Europe/Paris:20260425T210000
DTEND;TZID=Europe/Paris:20260426T003000
DTSTAMP:20260425T125206
CREATED:20260315T150609Z
LAST-MODIFIED:20260415T153146Z
UID:49078-1777150800-1777163400@lemarchedelaseiche.fr
SUMMARY:Rock it Up à La Seiche : Rock'n'Roll des années 50
DESCRIPTION:Rock it Up à La Seiche : Rock’n’Roll des années 50\nRock It Up ! Covers Rock’n’roll des années 50’s\, l’énergie du Rock version 2.0 ! \n🍷🍲 Bars et restauration sur place dès 18h.
URL:https://lemarchedelaseiche.fr/event/rock-it-up-rocknroll-annees-50-annecy/
LOCATION:la Seiche Sevrier\, 35 route de Piron\, Sevrier\, Haute-Savoie\, 74320\, France
CATEGORIES:Concert et Jam session,Quoi faire à Sevrier,Rock 'n' Roll,Sortir autour du lac d'Annecy
ATTACH;FMTTYPE=image/jpeg:https://lemarchedelaseiche.fr/wp-content/uploads/2026/03/Rock-it-Up-Covers-Rock-n-Roll-50s-a-La-Seiche-Sevrier-Haute-Savoie.jpg
END:VEVENT
END:VCALENDAR