BEGIN:VCALENDAR
VERSION:2.0
PRODID:-//La Seiche Sevrier - ECPv6.15.20//NONSGML v1.0//EN
CALSCALE:GREGORIAN
METHOD:PUBLISH
X-WR-CALNAME:La Seiche Sevrier
X-ORIGINAL-URL:https://lemarchedelaseiche.fr
X-WR-CALDESC:Évènements pour La Seiche Sevrier
REFRESH-INTERVAL;VALUE=DURATION:PT1H
X-Robots-Tag:noindex
X-PUBLISHED-TTL:PT1H
BEGIN:VTIMEZONE
TZID:Europe/Paris
BEGIN:DAYLIGHT
TZOFFSETFROM:+0100
TZOFFSETTO:+0200
TZNAME:CEST
DTSTART:20250330T010000
END:DAYLIGHT
BEGIN:STANDARD
TZOFFSETFROM:+0200
TZOFFSETTO:+0100
TZNAME:CET
DTSTART:20251026T010000
END:STANDARD
BEGIN:DAYLIGHT
TZOFFSETFROM:+0100
TZOFFSETTO:+0200
TZNAME:CEST
DTSTART:20260329T010000
END:DAYLIGHT
BEGIN:STANDARD
TZOFFSETFROM:+0200
TZOFFSETTO:+0100
TZNAME:CET
DTSTART:20261025T010000
END:STANDARD
BEGIN:DAYLIGHT
TZOFFSETFROM:+0100
TZOFFSETTO:+0200
TZNAME:CEST
DTSTART:20270328T010000
END:DAYLIGHT
BEGIN:STANDARD
TZOFFSETFROM:+0200
TZOFFSETTO:+0100
TZNAME:CET
DTSTART:20271031T010000
END:STANDARD
END:VTIMEZONE
BEGIN:VEVENT
DTSTART;TZID=Europe/Paris:20260417T190000
DTEND;TZID=Europe/Paris:20260418T003000
DTSTAMP:20260421T100920
CREATED:20260326T095236Z
LAST-MODIFIED:20260403T153650Z
UID:49309-1776452400-1776472200@lemarchedelaseiche.fr
SUMMARY:Rasso auto de La Seiche
DESCRIPTION:RASSO AUTO DE LA SEICHE\nTous les vendredis soir dès 19h se tiens un rasso auto à La Seiche avec Damcars. Venez présenter vos plus belles voitures. Une boisson est offerte aux plus intéressantes \nProfitez des animations du jours (programme ici) : concerts\, soirées dansantes avec DJ. Bar et resto sur place dès 18h.
URL:https://lemarchedelaseiche.fr/event/rasso-auto-de-la-seiche-4/
LOCATION:la Seiche Sevrier\, 35 route de Piron\, Sevrier\, Haute-Savoie\, 74320\, France
CATEGORIES:Animations et Spectacles,La Seiche Sevrier,Quoi faire à Sevrier,Rasso Auto
ATTACH;FMTTYPE=image/jpeg:https://lemarchedelaseiche.fr/wp-content/uploads/2026/03/Rasso-auto-de-La-Seiche-Sevrier-Haute-Savoie.jpg
END:VEVENT
BEGIN:VEVENT
DTSTART;TZID=Europe/Paris:20260417T193000
DTEND;TZID=Europe/Paris:20260417T210000
DTSTAMP:20260421T100920
CREATED:20260207T144138Z
LAST-MODIFIED:20260409T112226Z
UID:48167-1776454200-1776459600@lemarchedelaseiche.fr
SUMMARY:Jam session & Karaoké Live : Jouer – chanter – écouter- danser
DESCRIPTION:Jam session & Karaoké Live : Jouer – chanter – écouter- danser.\n Scène ouverte / jam session spécial Karaoké : jouer\, chanter ou écouter\, musiciens amateurs et professionnels\, seuls ou en groupe\, jouent leurs morceaux préférés dans un ambiance dansante et spontanée (dès 19h30). \n bars et restauration sont à votre dispositions \n—
URL:https://lemarchedelaseiche.fr/event/scene-ouverte-jam-session-jouer-chanter-ecouter-danser-8/
LOCATION:la Seiche Sevrier\, 35 route de Piron\, Sevrier\, Haute-Savoie\, 74320\, France
CATEGORIES:Concert et Jam session,Jam Session,Karaoké,La Seiche Sevrier,Quoi faire à Sevrier,Sortir autour du lac d'Annecy
ATTACH;FMTTYPE=image/jpeg:https://lemarchedelaseiche.fr/wp-content/uploads/2026/02/Jam-Session-Karaoke-live-a-la-Seiche-Sevrier-Haute-Savoie.jpg
END:VEVENT
BEGIN:VEVENT
DTSTART;TZID=Europe/Paris:20260417T210000
DTEND;TZID=Europe/Paris:20260418T003000
DTSTAMP:20260421T100920
CREATED:20260128T122407Z
LAST-MODIFIED:20260403T153642Z
UID:47950-1776459600-1776472200@lemarchedelaseiche.fr
SUMMARY:L'affaire Tournesol - Blues\, Jazz et Rock des années 50\, 60 et 70
DESCRIPTION:L’affaire Tournesol – reprises Blues\, Jazz et Rock\nL’Affaire Tourne’Sol : standards blues et jazz\, des rock des années 50\, 60 et 70 (Johnny Hallyday\, Eddy Mitchell\, Vince Taylor\, Ray Charles\, Bill Haley…) et des chansons de Claude Nougaro\, Bashung\, Michel Jonasz\, Nino Ferrer… L’Affaire Tourne’Sol a fait plus de 1400 concerts en bientôt 30 ans d’existence. \n🍷🍲 Bars et restauration sur place.
URL:https://lemarchedelaseiche.fr/event/laffaire-tournesol-blues-jazz-et-rock-des-annees-50-60-et-70-13/
LOCATION:la Seiche Sevrier\, 35 route de Piron\, Sevrier\, Haute-Savoie\, 74320\, France
CATEGORIES:Concert et Jam session,La Seiche Sevrier,Musique,Quoi faire à Sevrier,Sortir autour du lac d'Annecy
ATTACH;FMTTYPE=image/jpeg:https://lemarchedelaseiche.fr/wp-content/uploads/2025/12/L-Affaire-Tourne-Sol-Blues-Jazz-Rock-a-La-Seiche-Sevrier-Haute-Savoie.jpg
END:VEVENT
END:VCALENDAR